BEGIN:VCALENDAR
VERSION:2.0
PRODID:-//ChamberMaster//Event Calendar 2.0//EN
METHOD:PUBLISH
X-PUBLISHED-TTL:P3D
REFRESH-INTERVAL:P3D
CALSCALE:GREGORIAN
BEGIN:VEVENT
DTSTART;VALUE=DATE:20140509
DTEND;VALUE=DATE:20140510
TRANSP:TRANSPARENT
X-MICROSOFT-CDO-ALLDAYEVENT:TRUE
SUMMARY:Casino Night @ St Christopher's
DESCRIPTION:7:30 pm for info call 305-361-6469
X-ALT-DESC;FMTTYPE=text/html:7:30 pm for info call 305-361-6469
LOCATION:
UID:e.330.4106
SEQUENCE:3
DTSTAMP:20260419T121209Z
URL:https://business.keybiscaynechamber.org/events/details/casino-night-st-christopher-s-05-09-2014-4106
END:VEVENT

END:VCALENDAR
