BEGIN:VCALENDAR
VERSION:2.0
PRODID:-//ChamberMaster//Event Calendar 2.0//EN
METHOD:PUBLISH
X-PUBLISHED-TTL:P3D
REFRESH-INTERVAL:P3D
CALSCALE:GREGORIAN
BEGIN:VEVENT
DTSTART:20250619T230000Z
DTEND:20250620T000000Z
X-MICROSOFT-CDO-ALLDAYEVENT:FALSE
SUMMARY:Candlelight Concert at Belmont Village
DESCRIPTION:Join us for a musical experience of past decades (50's\, 60's 70's and 80's) benefitting the Alzheimer's Association. Immerse yourself in the melodies performed by Kiiero Music\, set against the gentle glow of candlelight. Your participation and donations will directly contribute to the essential work of the Alzheimer's Association\, fostering awareness\, research\, and support for those affected by this condition.\n\n\n\nDonation Requirements:\n\nBelmont Village Residents and Families: $10 (donation)\n\nExternal Community Members/Guests: $20 (donation)\n\n\n\nCash\, checks and credit cards donations accepted. To make your donation online prior to the event\, please CLICK HERE. Every dollar raised brings us one step closer to a world without Alzheimer's. Enjoy an enchanting evening while making a meaningful impact.
X-ALT-DESC;FMTTYPE=text/html:<br />\n<br />\n<br />\nJoin us for a musical experience of past decades (50&#39\;s\, 60&#39\;s 70&#39\;s and 80&#39\;s) benefitting the Alzheimer&#39\;s Association. Immerse yourself in the melodies performed by Kiiero Music\, set against the gentle glow of candlelight. Your participation and donations will directly contribute to the essential work of the Alzheimer&#39\;s Association\, fostering awareness\, research\, and support for those affected by this condition.<br />\n<br />\nDonation Requirements:<br />\nBelmont Village Residents and Families: $10 (donation)<br />\nExternal Community Members/Guests: $20 (donation)<br />\n<br />\nCash\, checks and credit cards donations accepted. To make your donation online prior to the event\, please <a href="https://act.alz.org/site/TR/Walk2025/FL-SoutheastFlorida?px=25339068&amp\;pg=personal&amp\;fr_id=18516">CLICK HERE</a>. Every dollar raised brings us one step closer to a world without Alzheimer&#39\;s. Enjoy an enchanting evening while making a meaningful impact.
LOCATION:Belmont Village Senior Living Great Room
UID:e.330.23105
SEQUENCE:3
DTSTAMP:20260425T032759Z
URL:https://business.keybiscaynechamber.org/events/details/candlelight-concert-at-belmont-village-23105
END:VEVENT

END:VCALENDAR
