BEGIN:VCALENDAR
VERSION:2.0
PRODID:-//ChamberMaster//Event Calendar 2.0//EN
METHOD:PUBLISH
X-PUBLISHED-TTL:P3D
REFRESH-INTERVAL:P3D
CALSCALE:GREGORIAN
BEGIN:VEVENT
DTSTART:20250629T130000Z
DTEND:20250629T200000Z
X-MICROSOFT-CDO-ALLDAYEVENT:FALSE
SUMMARY:Camp Guaikinima 2025
DESCRIPTION:We are a bilingual Spanish/English adventure summer camp in Florida\, offering overnight and/or day programs in carefully selected natural areas and the best activities for kids during the summer.\n\n\n\nWith us\, your children will experience unforgettable adventures while building confidence\, overcoming fears\, and discovering their true potential. Through outdoor activities and a methodology proven for over 30 years\, we transform every experience into an opportunity for learning and personal growth.\n\n\n\nThe programs offered include:\n\nSleepaway program - Ages 6 to 16 ( Pierson\, FL )\n\nCampfire Sleepover program - Ages 6 to 12 ( Aventura\, FL )\n\nDay Camp program - Ages 4 to 12 ( Multiple Locations )
X-ALT-DESC;FMTTYPE=text/html:<br />\n<br />\n<span style="font-size: 13pt\; font-family: Arial\, sans-serif\; color: rgb(59\, 63\, 68)\; user-select: text !important\;">We are a <strong>bilingual Spanish/English adventure summer camp in Florida</strong>\, offering overnight and/or day programs in carefully selected natural areas and the</span><span style="font-size: 13pt\; font-family: Arial\, sans-serif\; color: rgb(59\, 63\, 68)\; user-select: text !important\;">&nbsp\;best activities for kids during the summer.<br />\n<br />\nWith us\, your children will experience unforgettable adventures while building confidence\, overcoming fears\, and discovering their true potential. Through outdoor activities and a methodology proven for over 30 years\, we transform every experience into an opportunity for <span style="font-size:18px\;">learning and personal growth</span></span><span style="font-size: 11.5pt\; font-family: Arial\, sans-serif\; color: rgb(59\, 63\, 68)\; user-select: text !important\;"><span style="font-size:18px\;">.</span><br />\n<br />\n<span style="font-size:18px\;">The programs offered include:<br />\nSleepaway program - Ages 6 to 16 (&nbsp\;</span></span><span style="font-size:18px\;"><span style="color: rgb(59\, 63\, 68)\; font-family: Arial\, sans-serif\;">Pierson\, FL )</span><br />\n<span style="font-family: Arial\, sans-serif\; color: rgb(59\, 63\, 68)\; user-select: text !important\;">Campfire Sleepover program - Ages 6 to 12 ( Aventura\, FL )<br />\nDay Camp program - Ages 4 to 12 ( Multiple Locations )</span></span>
LOCATION:Location dependent on program
UID:e.330.23014
SEQUENCE:3
DTSTAMP:20260425T031310Z
URL:https://business.keybiscaynechamber.org/events/details/camp-guaikinima-2025-23014
END:VEVENT

END:VCALENDAR
