BEGIN:VCALENDAR
VERSION:2.0
PRODID:-//ChamberMaster//Event Calendar 2.0//EN
METHOD:PUBLISH
X-PUBLISHED-TTL:P3D
REFRESH-INTERVAL:P3D
CALSCALE:GREGORIAN
BEGIN:VEVENT
DTSTART:20130316T210000Z
DTEND:20130317T000000Z
X-MICROSOFT-CDO-ALLDAYEVENT:FALSE
SUMMARY:CALIFORNIA WINES & TEQUILA TASTING
DESCRIPTION:PRIMAL ROOTS\, RED & WHITE BLEND\n\n\n\nTEQUILA 1800\n\nSILVER & COCONUT FLAVORS\n\n\n\nWINE OF THE WEEK: CLOS CLEMENTINE ROSE: $17.99 \n\nPROVENCE\, FRANCE
X-ALT-DESC;FMTTYPE=text/html:PRIMAL ROOTS\, RED &amp\; WHITE BLEND<br />\n<br />\nTEQUILA 1800<br />\nSILVER &amp\; COCONUT FLAVORS<br />\n<br />\nWINE OF THE WEEK: CLOS CLEMENTINE ROSE: $17.99&nbsp\;<br />\nPROVENCE\, FRANCE
LOCATION:STEFANO?S WINE & LIQUOR AT THE GALLERIA MALL
UID:e.330.3874
SEQUENCE:3
DTSTAMP:20260420T091447Z
URL:https://business.keybiscaynechamber.org/events/details/california-wines-tequila-tasting-03-16-2013-3874
END:VEVENT

END:VCALENDAR
