BEGIN:VCALENDAR
VERSION:2.0
PRODID:-//ChamberMaster//Event Calendar 2.0//EN
METHOD:PUBLISH
X-PUBLISHED-TTL:P3D
REFRESH-INTERVAL:P3D
CALSCALE:GREGORIAN
BEGIN:VEVENT
DTSTART:20121130T220000Z
DTEND:20121201T010000Z
X-MICROSOFT-CDO-ALLDAYEVENT:FALSE
SUMMARY:CALIFORNIA WINE TASTING
DESCRIPTION:Joseph Swan Portfolio Tasting: Russian River Valley\n\n\n\nCuvee de Trois Chardonnay\n\nSarelee Pinot Noir\,
X-ALT-DESC;FMTTYPE=text/html:<br />\n<strong><span style="font-size: 16px">Joseph Swan Portfolio Tasting: Russian River Valley<br />\n<br />\nCuvee de Trois Chardonnay<br />\nSarelee Pinot Noir\,</span></strong><br />\n
LOCATION:STEFANOS WINE & LIQUOR AT THE GALLERIA MALL
UID:e.330.3814
SEQUENCE:3
DTSTAMP:20260420T145328Z
URL:https://business.keybiscaynechamber.org/events/details/california-wine-tasting-11-30-2012-3814
END:VEVENT

END:VCALENDAR
