BEGIN:VCALENDAR
VERSION:2.0
PRODID:-//ChamberMaster//Event Calendar 2.0//EN
METHOD:PUBLISH
X-PUBLISHED-TTL:P3D
REFRESH-INTERVAL:P3D
CALSCALE:GREGORIAN
BEGIN:VEVENT
DTSTART:20130329T210000Z
DTEND:20130330T000000Z
X-MICROSOFT-CDO-ALLDAYEVENT:FALSE
SUMMARY:CALIFORNIA PINOT NOIR & SCOTCH TASTING!
DESCRIPTION:SOJOURN PINOT NOIR\, SONOMA VALLEY\, CALIFORNIA\n\n\n\nGLENMORANGIE SCOTCH 18YRS
X-ALT-DESC;FMTTYPE=text/html:<span style="font-family: verdana"><strong>SOJOURN PINOT NOIR\, SONOMA VALLEY\, CALIFORNIA<br />\n<br />\nGLENMORANGIE SCOTCH 18YRS</strong></span>
LOCATION:STEFANO?S WINE & LIQUOR AT THE GALLERIA MALL
UID:e.330.3882
SEQUENCE:3
DTSTAMP:20260420T091716Z
URL:https://business.keybiscaynechamber.org/events/details/california-pinot-noir-scotch-tasting-03-29-2013-3882
END:VEVENT

END:VCALENDAR
