BEGIN:VCALENDAR
VERSION:2.0
PRODID:-//ChamberMaster//Event Calendar 2.0//EN
METHOD:PUBLISH
X-PUBLISHED-TTL:P3D
REFRESH-INTERVAL:P3D
CALSCALE:GREGORIAN
BEGIN:VEVENT
DTSTART:20130405T210000Z
DTEND:20130406T000000Z
X-MICROSOFT-CDO-ALLDAYEVENT:FALSE
SUMMARY:CALIFORNIA PINOT NOIR & GIN TASTING!
DESCRIPTION:ONCE UPON A VINE PINOT NOIR\, CALIFORNIA\n\n\n\nFIFTY POUND GIN\, LONDON
X-ALT-DESC;FMTTYPE=text/html:<span style="font-size: 14px"><span style="font-family: arial">ONCE UPON A VINE PINOT NOIR\, CALIFORNIA<br />\n<br />\nFIFTY POUND GIN\, LONDON</span></span><br />\n<br />\n
LOCATION:STEFANO S WINE & LIQUOR AT THE GALLERIA MALL
UID:e.330.3885
SEQUENCE:3
DTSTAMP:20260420T075513Z
URL:https://business.keybiscaynechamber.org/events/details/california-pinot-noir-gin-tasting-04-05-2013-3885
END:VEVENT

END:VCALENDAR
