BEGIN:VCALENDAR
VERSION:2.0
PRODID:-//ChamberMaster//Event Calendar 2.0//EN
METHOD:PUBLISH
X-PUBLISHED-TTL:P3D
REFRESH-INTERVAL:P3D
CALSCALE:GREGORIAN
BEGIN:VEVENT
DTSTART:20130222T220000Z
DTEND:20130223T010000Z
X-MICROSOFT-CDO-ALLDAYEVENT:FALSE
SUMMARY:CALIFORNIA CHARDONNAY & SYRAH TASTING!
DESCRIPTION:SEVEN HEAVENLY CHARDONNAY BY MICHAEL DAVID\n\n	6TH SENSE SYRAH BY MICHAEL DAVID
X-ALT-DESC;FMTTYPE=text/html:<p>\n	SEVEN HEAVENLY CHARDONNAY BY MICHAEL DAVID<br />\n	6TH SENSE SYRAH BY MICHAEL DAVID</p>\n
LOCATION:STEFANOS WINE & LIQUOR AT THE GALLERIA MALL
UID:e.330.3862
SEQUENCE:3
DTSTAMP:20260420T104518Z
URL:https://business.keybiscaynechamber.org/events/details/california-chardonnay-syrah-tasting-02-22-2013-3862
END:VEVENT

END:VCALENDAR
