BEGIN:VCALENDAR
VERSION:2.0
PRODID:-//ChamberMaster//Event Calendar 2.0//EN
METHOD:PUBLISH
X-PUBLISHED-TTL:P3D
REFRESH-INTERVAL:P3D
CALSCALE:GREGORIAN
BEGIN:VEVENT
DTSTART:20130111T220000Z
DTEND:20130112T010000Z
X-MICROSOFT-CDO-ALLDAYEVENT:FALSE
SUMMARY:CALIFORNIA CHARDONNAY & PINOT NOIR TASTING
DESCRIPTION:A to Z Chardonnay\, Napa Valley\n\nBenton Lane Pinot Noir
X-ALT-DESC;FMTTYPE=text/html:<br />\n<span style="font-size: 18px"><span style="font-family: times new roman">A to Z Chardonnay\, Napa Valley<br />\nBenton Lane Pinot Noir</span></span><br />\n
LOCATION:STEFANO?S WINE & LIQUOR AT THE GALLERIA MALL
UID:e.330.3835
SEQUENCE:3
DTSTAMP:20260420T132924Z
URL:https://business.keybiscaynechamber.org/events/details/california-chardonnay-pinot-noir-tasting-01-11-2013-3835
END:VEVENT

END:VCALENDAR
