BEGIN:VCALENDAR
VERSION:2.0
PRODID:-//ChamberMaster//Event Calendar 2.0//EN
METHOD:PUBLISH
X-PUBLISHED-TTL:P3D
REFRESH-INTERVAL:P3D
CALSCALE:GREGORIAN
BEGIN:VEVENT
DTSTART:20140607T210000Z
DTEND:20140608T000000Z
X-MICROSOFT-CDO-ALLDAYEVENT:FALSE
SUMMARY:Cacacha Event at Stefano's Wine & Liquor
DESCRIPTION:BRAZILIAN CACACHA TASTING\n\n\n\nLEBLON CACACHA
X-ALT-DESC;FMTTYPE=text/html:<br />\n<span style="font-size: 14px\;"><u><strong>BRAZILIAN CACACHA TASTING</strong></u></span><br />\n<br />\nLEBLON CACACHA
LOCATION:STEFANO?S WINE & LIQUOR AT THE GALLERIA MALL
UID:e.330.4116
SEQUENCE:3
DTSTAMP:20260421T083108Z
URL:https://business.keybiscaynechamber.org/events/details/cacacha-event-at-stefano-s-wine-liquor-06-07-2014-4116
END:VEVENT

END:VCALENDAR
