BEGIN:VCALENDAR
VERSION:2.0
PRODID:-//ChamberMaster//Event Calendar 2.0//EN
METHOD:PUBLISH
X-PUBLISHED-TTL:P3D
REFRESH-INTERVAL:P3D
CALSCALE:GREGORIAN
BEGIN:VEVENT
DTSTART:20110608T213000Z
DTEND:20110608T233000Z
X-MICROSOFT-CDO-ALLDAYEVENT:FALSE
SUMMARY:Business Card Exchange at RSMAS
DESCRIPTION:Meet the new Dean of U of M's Rosenstiel School of Marine and Atmospheric Science\, Roni Avissar. Join the members of the Key Biscayne Chamber\, the Coconut Grove Chamber \, and the Trustees of the Coral Gables Chamber for a fabulous networking event.
X-ALT-DESC;FMTTYPE=text/html:<span style="font-family: arial"><span style="font-size: 12px">Meet the new Dean of U of M&#39\;s Rosenstiel School of Marine and Atmospheric Science\, Roni Avissar. Join the members of the Key Biscayne Chamber\, the Coconut Grove Chamber \, and the Trustees of the Coral Gables Chamber for a fabulous networking event.</span></span>
LOCATION:University of Miami Rosenstiel School\, The Commons.
UID:e.330.3376
SEQUENCE:3
DTSTAMP:20260421T160738Z
URL:https://business.keybiscaynechamber.org/events/details/business-card-exchange-at-rsmas-06-08-2011-3376
END:VEVENT

END:VCALENDAR
