BEGIN:VCALENDAR
VERSION:2.0
PRODID:-//ChamberMaster//Event Calendar 2.0//EN
METHOD:PUBLISH
X-PUBLISHED-TTL:P3D
REFRESH-INTERVAL:P3D
CALSCALE:GREGORIAN
BEGIN:VEVENT
DTSTART:20110308T223000Z
DTEND:20110309T003000Z
X-MICROSOFT-CDO-ALLDAYEVENT:FALSE
SUMMARY:Business Card Exchange and Networker
DESCRIPTION:Join the Key Biscayne Chamber of Commerce\, The French American Chamber\, The Brazilian American Chamber and the British American Business Council  for a business card exchange and networker at the Rickenbacker Fish Company.\n\n\n\nFree appetizers and cash bar at happy hour prices.\n\n\n\nRSVP to the Chamber.
X-ALT-DESC;FMTTYPE=text/html:<span style="font-size: 12px"><span style="font-family: arial">Join the Key Biscayne Chamber of Commerce\, The French American Chamber\, The Brazilian American Chamber and the British American Business Council &nbsp\;for a business card exchange and networker at the Rickenbacker Fish Company.<br />\n<br />\nFree&nbsp\;appetizers and cash bar at happy hour prices.<br />\n<br />\nRSVP to the Chamber.</span></span>
LOCATION:Rickenbacker Fish Company\, 3301 Rickenbacker Causeway\, Key Biscayne\, FL33149
UID:e.330.3085
SEQUENCE:3
DTSTAMP:20260421T201852Z
URL:https://business.keybiscaynechamber.org/events/details/business-card-exchange-and-networker-03-08-2011-3085
END:VEVENT

END:VCALENDAR
