BEGIN:VCALENDAR
VERSION:2.0
PRODID:-//ChamberMaster//Event Calendar 2.0//EN
METHOD:PUBLISH
X-PUBLISHED-TTL:P3D
REFRESH-INTERVAL:P3D
CALSCALE:GREGORIAN
BEGIN:VEVENT
DTSTART;VALUE=DATE:20120406
DTEND;VALUE=DATE:20120409
TRANSP:TRANSPARENT
X-MICROSOFT-CDO-ALLDAYEVENT:TRUE
SUMMARY:BunnyPalooza- Egg Hunts Parades & More!
DESCRIPTION:BUNNYPALOOZA!\n\n	\n\n	For an $8 off Coupon\, click the web address below\n\n	http://www.miamiseaquarium.com/bunnypalooza\n\n\nParade Grand Marshall: Ariana Grande\, who plays Cat Valentine on Nickelodeaon's hit show "Victorious"\n\n\n\nThe Biggest Easter Parade in South Florida Everyday Starts at 12:30pm\n\n\n\nContinuous Egg Hunts 10am-4pm each day\n\n\n\n5 acres of Adrenaline -Pumping Rides\, Slides & Kid's Fun\n\nExciting shows starring Lolita\, Flipper & Friends\n\n\n\nDaily appearances by the Easter Bunny\n\n\n\nLive Music\, Bounce Houses & More!
X-ALT-DESC;FMTTYPE=text/html:<br />\n<p style="text-align: center\;">\n	<strong><span style="color:#800080\;"><span style="font-size: 14px\;"><span style="font-family: comic sans ms\;">BUNNYPALOOZA!<br />\n	<br />\n	For an $8 off Coupon\, click the web address below<br />\n	<a href="http://www.miamiseaquarium.com/bunnypalooza">http://www.miamiseaquarium.com/bunnypalooza</a></span></span></span></strong></p>\n<br />\n<strong><span style="color:#800080\;"><span style="font-size: 14px\;"><span style="font-family: comic sans ms\;">Parade Grand Marshall: Ariana Grande\, who plays Cat Valentine on Nickelodeaon&#39\;s hit show &quot\;Victorious&quot\;<br />\n<br />\nThe Biggest Easter Parade in South Florida Everyday Starts at 12:30pm</span></span><br />\n<br />\n<span style="font-family: comic sans ms\;"><span style="font-size: 14px\;">Continuous Egg Hunts 10am-4pm each day<br />\n<br />\n5 acres of Adrenaline -Pumping Rides\, Slides &amp\; Kid&#39\;s Fun<br />\nExciting shows starring Lolita\, Flipper &amp\; Friends<br />\n<br />\nDaily appearances by the Easter Bunny<br />\n<br />\nLive Music\, Bounce Houses &amp\; More!</span></span></span></strong>
LOCATION:Miami Seaquarium
UID:e.330.3671
SEQUENCE:3
DTSTAMP:20260421T015020Z
URL:https://business.keybiscaynechamber.org/events/details/bunnypalooza-egg-hunts-parades-more-04-06-2012-3671
END:VEVENT

END:VCALENDAR
