BEGIN:VCALENDAR
VERSION:2.0
PRODID:-//ChamberMaster//Event Calendar 2.0//EN
METHOD:PUBLISH
X-PUBLISHED-TTL:P3D
REFRESH-INTERVAL:P3D
CALSCALE:GREGORIAN
BEGIN:VEVENT
DTSTART:20110122T020000Z
DTEND:20110122T060000Z
X-MICROSOFT-CDO-ALLDAYEVENT:FALSE
SUMMARY:Blues Night at The Ibis Lounge
DESCRIPTION:live Blues by award-winning Big Poppa E and the E Band\n\n\n\nno cover\n\nfree parking
X-ALT-DESC;FMTTYPE=text/html:live Blues by award-winning Big Poppa E and the E Band\n<br>\n<br>no cover\n<br>free parking
LOCATION:The Ibis Lounge 200 Crandon Blvd #101 Key Biscayne\, Fl 33149
UID:e.330.3036
SEQUENCE:3
DTSTAMP:20260422T001123Z
URL:https://business.keybiscaynechamber.org/events/details/blues-night-at-the-ibis-lounge-01-21-2011-3036
END:VEVENT

END:VCALENDAR
