BEGIN:VCALENDAR
VERSION:2.0
PRODID:-//ChamberMaster//Event Calendar 2.0//EN
METHOD:PUBLISH
X-PUBLISHED-TTL:P3D
REFRESH-INTERVAL:P3D
CALSCALE:GREGORIAN
BEGIN:VEVENT
DTSTART:20251025T220000Z
DTEND:20251026T020000Z
X-MICROSOFT-CDO-ALLDAYEVENT:FALSE
SUMMARY:Bill Baggs Haunted Hike 2025
DESCRIPTION:Enjoy the most Spook-tacular Halloween extravaganza! Carnival rides\, Little Monster Theater\, face painting\, food trucks\, & the infamous HAUNTED HIKE.  more...\n\n\n\n**Spooky Spot Teams can apply now to participate!  email events@friendscapeflorida.org to inquire.**
X-ALT-DESC;FMTTYPE=text/html:<br />\n<br />\nEnjoy the most Spook-tacular Halloween extravaganza! Carnival rides\, Little Monster Theater\, face painting\, food trucks\, &amp\; the infamous HAUNTED HIKE.&nbsp\; <a href="https://friendscapeflorida.org/event-6092041">more</a>...<br />\n<br />\n**Spooky Spot Teams can apply now to participate!&nbsp\; email events@friendscapeflorida.org to inquire.**<br />\n<br />\n&nbsp\;
LOCATION:Bill Baggs Cape Florida State Park Near Pavilion D-18
UID:e.330.23222
SEQUENCE:3
DTSTAMP:20260424T211843Z
URL:https://business.keybiscaynechamber.org/events/details/bill-baggs-haunted-hike-2025-23222
END:VEVENT

END:VCALENDAR
