BEGIN:VCALENDAR
VERSION:2.0
PRODID:-//ChamberMaster//Event Calendar 2.0//EN
METHOD:PUBLISH
X-PUBLISHED-TTL:P3D
REFRESH-INTERVAL:P3D
CALSCALE:GREGORIAN
BEGIN:VEVENT
DTSTART:20250614T130000Z
DTEND:20250614T150000Z
X-MICROSOFT-CDO-ALLDAYEVENT:FALSE
SUMMARY:Bill Baggs Cape Florida State Park - 2nd Saturday Park Cleanup
DESCRIPTION:Join volunteers in helping keep Florida's State Parks and beaches safe\, clean\, and enjoyable for both wildlife and visitors. \n\n\n\nVolunteers are encouraged to wear closed-toe shoes and bring sunscreen\, bug spray (if needed)\, and a reusable water bottle.\n\n\n\nAll clean-up supplies will be provided.\n\n\n\nVolunteer Service Recognition Letters will be available upon request at the conclusion of the event.\n\n\n\nPark Entry: Free for volunteers please inform the ranger station upon arrival
X-ALT-DESC;FMTTYPE=text/html:<br />\n<br />\nJoin volunteers in helping keep Florida&rsquo\;s State Parks and beaches safe\, clean\, and enjoyable for both wildlife and visitors.&nbsp\;<br />\n<br />\nVolunteers are encouraged to wear closed-toe shoes and bring sunscreen\, bug spray (if needed)\, and a reusable water bottle.<br />\n<br />\nAll clean-up supplies will be provided.<br />\n<br />\nVolunteer Service Recognition Letters will be available upon request at the conclusion of the event.<br />\n<br />\n<span style="color: rgb(51\, 51\, 51)\; font-family: sans-serif\, Arial\, Verdana\, &quot\;Trebuchet MS&quot\;\; font-size: 13px\; background-color: rgb(255\, 255\, 255)\;">Park Entry: Free for volunteers&mdash\;please inform the ranger station upon arrival&nbsp\;</span>
LOCATION:Bill Baggs Cape Florida State Park Shelter B10
UID:e.330.23096
SEQUENCE:3
DTSTAMP:20260425T032725Z
URL:https://business.keybiscaynechamber.org/events/details/bill-baggs-cape-florida-state-park-2nd-saturday-park-cleanup-23096
END:VEVENT

END:VCALENDAR
