BEGIN:VCALENDAR
VERSION:2.0
PRODID:-//ChamberMaster//Event Calendar 2.0//EN
METHOD:PUBLISH
X-PUBLISHED-TTL:P3D
REFRESH-INTERVAL:P3D
CALSCALE:GREGORIAN
BEGIN:VEVENT
DTSTART:20250809T130000Z
DTEND:20250809T150000Z
X-MICROSOFT-CDO-ALLDAYEVENT:FALSE
SUMMARY:Bill Baggs Cape Florida State Park - 2nd Saturday Cleanup
DESCRIPTION:Hello all you Clean-up Warriors!\n\n\n\nPlease Join us in keeping our Florida State Parks and Beaches safe\, clean and enjoyable for our wildlife and visitors.\n\n\n\nMeeting location will be shelter B10. Once you enter the park\, make your second left and it will be the first shelter on the left. 9AM   11PM\n\n\n\nWe recommend Closed toed shoes\, Sunscreen and Bug Spray if needed. All Material to complete clean-up will be provided.\n\n\n\nVolunteer Service Recognition Letters will be provided upon request at the end of the Clean-up.
X-ALT-DESC;FMTTYPE=text/html:<br />\n<br />\n<span style="font-size:16px\;">Hello all you Clean-up Warriors!<br />\n<br />\nPlease Join us in keeping our Florida State Parks and Beaches safe\, clean and enjoyable for our wildlife and visitors.<br />\n<br />\nMeeting location will be shelter B10. Once you enter the park\, make your second left and it will be the first shelter on the left. 9AM &ndash\; 11PM<br />\n<br />\nWe recommend Closed toed shoes\, Sunscreen and Bug Spray if needed. All Material to complete clean-up will be provided.<br />\n<br />\nVolunteer Service Recognition Letters will be provided upon request at the end of the Clean-up.</span>
LOCATION:Bill Baggs Cape Florida State Park
UID:e.330.23133
SEQUENCE:3
DTSTAMP:20260425T001545Z
URL:https://business.keybiscaynechamber.org/events/details/bill-baggs-cape-florida-state-park-2nd-saturday-cleanup-08-09-2025-23133
END:VEVENT

END:VCALENDAR
