BEGIN:VCALENDAR
VERSION:2.0
PRODID:-//ChamberMaster//Event Calendar 2.0//EN
METHOD:PUBLISH
X-PUBLISHED-TTL:P3D
REFRESH-INTERVAL:P3D
CALSCALE:GREGORIAN
BEGIN:VEVENT
DTSTART:20120524T133000Z
DTEND:20120524T133000Z
X-MICROSOFT-CDO-ALLDAYEVENT:FALSE
SUMMARY:Beach Body Workout
DESCRIPTION:Join Nohelia\, Latin celebrity fitness trainer\, for a one-of-a-kind exercise class that will get you beach body ready for summer while you have fun with your child. This event will take place on the Village Green of Key Biscayne and anyone is welcome to attend\, the more the merrier and don't forget to bring the kids. The class is for adults and children so the exercises are fun and easy. There will be 2 free personal fitness classes raffled off at the end of the event. Don't miss this opportunity to learn new exercise techniques that are sure to get you back into your best beach body ever while having fun with your kids!\n\n	Contact Nehelia \n\n	FM Kidz.      305.469.0564
X-ALT-DESC;FMTTYPE=text/html:<div style="color: gray">\n	<span style="color: #800080"><span style="font-family: comic sans ms"><span style="font-size: 10pt">Join Nohelia\, Latin celebrity fitness trainer\, for a one-of-a-kind exercise class that will get you beach body ready for summer while you have fun with your child. This event will take place on the Village Green of Key Biscayne and anyone is welcome to attend\, the more the merrier and don&#39\;t forget to bring the kids. The class is for adults and children so the exercises are fun and easy. There will be 2 free personal fitness classes raffled off at the end of the event. Don&rsquo\;t miss this opportunity to learn new exercise techniques that are sure to get you back into your best beach body ever while having fun with your kids!</span><br />\n	<span style="font-size: 10pt">Contact Nehelia&nbsp\;<br />\n	FM Kidz.&nbsp\;&nbsp\;&nbsp\;<strong>&nbsp\;&nbsp\; <span style="font-size: 10pt"><span style="font-family: arial\, sans-serif">305.469.0564&nbsp\;</span></span></strong></span></span></span><br />\n	<br />\n	&nbsp\;</div>\n
LOCATION:The Village Green
UID:e.330.3709
SEQUENCE:3
DTSTAMP:20260421T001424Z
URL:https://business.keybiscaynechamber.org/events/details/beach-body-workout-05-24-2012-3709
END:VEVENT

END:VCALENDAR
