BEGIN:VCALENDAR
VERSION:2.0
PRODID:-//ChamberMaster//Event Calendar 2.0//EN
METHOD:PUBLISH
X-PUBLISHED-TTL:P3D
REFRESH-INTERVAL:P3D
CALSCALE:GREGORIAN
BEGIN:VEVENT
DTSTART:20250810T150000Z
DTEND:20250810T170000Z
X-MICROSOFT-CDO-ALLDAYEVENT:FALSE
SUMMARY:Backpack Blessing & End of Summer Bash
DESCRIPTION:Key Biscayne Community Church & Day School invites local families to mark the start of the school year with a joyful celebration. This youth-led event features a backpack blessing\, water games\, pizza and plenty of family fun.
X-ALT-DESC;FMTTYPE=text/html:<br />\n<br />\n<span style="font-size:16px\;">Key Biscayne Community Church &amp\; Day School invites local families to mark the start of the school year with a joyful celebration. This youth-led event features a backpack blessing\, water games\, pizza and plenty of family fun.</span>
LOCATION:Key Biscayne Community Church
UID:e.330.23136
SEQUENCE:3
DTSTAMP:20260425T000959Z
URL:https://business.keybiscaynechamber.org/events/details/backpack-blessing-end-of-summer-bash-23136
END:VEVENT

END:VCALENDAR
