BEGIN:VCALENDAR
VERSION:2.0
PRODID:-//ChamberMaster//Event Calendar 2.0//EN
METHOD:PUBLISH
X-PUBLISHED-TTL:P3D
REFRESH-INTERVAL:P3D
CALSCALE:GREGORIAN
BEGIN:VEVENT
DTSTART:20130117T230000Z
DTEND:20130118T010000Z
X-MICROSOFT-CDO-ALLDAYEVENT:FALSE
SUMMARY:Awards of Excellence & Installation of Officers
DESCRIPTION:Join us for a night to honor the best of Key Biscayne. Voting is taking place now in the month of December and we will be honoring and announcing the winners at this joint event which is also honoring the incoming and outgoing Board of Directors and Officers. The event will take place at The Lighthouse Cafe.\n\n\n\nA complimentary rum bar and appetizers will be served. There will also be a cash bar for those who don't drink rum.\n\n\n\nThe cost is $15 per person - you may register online.
X-ALT-DESC;FMTTYPE=text/html:Join us for a night to honor the best of Key Biscayne. Voting&nbsp\;is taking place&nbsp\;now in&nbsp\;the month of December and we will be honoring and announcing the winners at this joint event which is also honoring the incoming and outgoing Board of Directors and Officers. The event will take place at The Lighthouse Cafe.<br />\n<br />\n<strong>A complimentary rum bar and appetizers will be served</strong>. There will also be a cash bar for those who don&#39\;t drink rum.<br />\n<br />\nThe cost is $15 per person - you may register online.
LOCATION:The Lighthouse Cafe Key Biscayne\, FL
UID:e.330.3831
SEQUENCE:3
DTSTAMP:20260420T133054Z
URL:https://business.keybiscaynechamber.org/events/details/awards-of-excellence-installation-of-officers-01-17-2013-3831
END:VEVENT

END:VCALENDAR
