BEGIN:VCALENDAR
VERSION:2.0
PRODID:-//ChamberMaster//Event Calendar 2.0//EN
METHOD:PUBLISH
X-PUBLISHED-TTL:P3D
REFRESH-INTERVAL:P3D
CALSCALE:GREGORIAN
BEGIN:VEVENT
DTSTART:20251116T190000Z
DTEND:20251116T210000Z
X-MICROSOFT-CDO-ALLDAYEVENT:FALSE
SUMMARY:Artist Dafne Heinzmann Book Signing: Escape into a Book\, Indulge in a Glass
DESCRIPTION:Artist Dafne Heinzmann joins us to discuss and sign her new book\, Ethereal Moments. Not just a collection of photographs   it is a sensory journey\, a meditation on the transformative power of nature and the emotions it evokes.\n\n\n\nCaptured entirely through the lens of my phone\, these images of Key Biscayne challenge convention\, embracing the immediacy and intimacy of the moment.\n\n\n\nFor the artist\, photography is not about the tools but about capturing the essence of a fleeting experience: the light\, the texture\, the feeling of being immersed in paradise.
X-ALT-DESC;FMTTYPE=text/html:<br />\n<br />\nArtist Dafne Heinzmann joins us to discuss and sign her new book\, Ethereal Moments. Not just a collection of photographs &mdash\; it is a sensory journey\, a meditation on the transformative power of nature and the emotions it evokes.<br />\n<br />\nCaptured entirely through the lens of my phone\, these images of Key Biscayne challenge convention\, embracing the immediacy and intimacy of the moment.<br />\n<br />\nFor the artist\, photography is not about the tools but about capturing the essence of a fleeting experience: the light\, the texture\, the feeling of being immersed in paradise.
LOCATION:Marjory Stoneman Douglas Biscayne Nature Center
UID:e.330.23273
SEQUENCE:3
DTSTAMP:20260424T212339Z
URL:https://business.keybiscaynechamber.org/events/details/artist-dafne-heinzmann-book-signing-escape-into-a-book-indulge-in-a-glass-23273
END:VEVENT

END:VCALENDAR
