BEGIN:VCALENDAR
VERSION:2.0
PRODID:-//ChamberMaster//Event Calendar 2.0//EN
METHOD:PUBLISH
X-PUBLISHED-TTL:P3D
REFRESH-INTERVAL:P3D
CALSCALE:GREGORIAN
BEGIN:VEVENT
DTSTART:20130216T220000Z
DTEND:20130217T010000Z
X-MICROSOFT-CDO-ALLDAYEVENT:FALSE
SUMMARY:ARGENTINE WINES AND VENEZUELAN RUMS TASTING!
DESCRIPTION:LAS PERDICES CABERNET & MALBEC\, ARGENTINA\n\n\n\nSELECTO ORANGE RUM\, VENEZUELA
X-ALT-DESC;FMTTYPE=text/html:LAS PERDICES CABERNET &amp\; MALBEC\, ARGENTINA<br />\n<br />\nSELECTO&nbsp\;ORANGE RUM\, VENEZUELA
LOCATION:STEFANO?S WINE & LIQUOR AT THE GALLERIA MALL
UID:e.330.3859
SEQUENCE:3
DTSTAMP:20260420T104708Z
URL:https://business.keybiscaynechamber.org/events/details/argentine-wines-and-venezuelan-rums-tasting-02-16-2013-3859
END:VEVENT

END:VCALENDAR
