BEGIN:VCALENDAR
VERSION:2.0
PRODID:-//ChamberMaster//Event Calendar 2.0//EN
METHOD:PUBLISH
X-PUBLISHED-TTL:P3D
REFRESH-INTERVAL:P3D
CALSCALE:GREGORIAN
BEGIN:VEVENT
DTSTART:20130322T210000Z
DTEND:20130323T000000Z
X-MICROSOFT-CDO-ALLDAYEVENT:FALSE
SUMMARY:ARGENTINE WINE TASTING & GINS
DESCRIPTION:LAS PERDICES MALBEC\, MENDOZA\, ARGENTIA\n\n\n\nBOMBAY SAPPHIRE LONDON GIN
X-ALT-DESC;FMTTYPE=text/html:<span style="font-size: 12px"><strong>LAS PERDICES MALBEC\, MENDOZA\, ARGENTIA<br />\n<br />\nBOMBAY SAPPHIRE LONDON GIN</strong></span>
LOCATION:STEFANO?S WINE & LIQUOR AT THE GALLERIA MALL
UID:e.330.3877
SEQUENCE:3
DTSTAMP:20260420T091241Z
URL:https://business.keybiscaynechamber.org/events/details/argentine-wine-tasting-gins-03-22-2013-3877
END:VEVENT

END:VCALENDAR
