BEGIN:VCALENDAR
VERSION:2.0
PRODID:-//ChamberMaster//Event Calendar 2.0//EN
METHOD:PUBLISH
X-PUBLISHED-TTL:P3D
REFRESH-INTERVAL:P3D
CALSCALE:GREGORIAN
BEGIN:VEVENT
DTSTART:20120504T233000Z
DTEND:20120505T035500Z
X-MICROSOFT-CDO-ALLDAYEVENT:FALSE
SUMMARY:Argentine Style BBQ at Beach Club
DESCRIPTION:Key Biscayne Lions Club invite you to the Annual Argentine Style BBQ.\n\n	 \n\n	Authentic Argentinian BBQ\n\n	Wine & Beer\n\n	Potato Salad (Rusa)\n\n	Green Salad\n\n	Baguette ...and more\n\n	All you can eat and drink!\n\n	 \n\n	Public invited - enjoy the best of Argentine Parrilla and Music.
X-ALT-DESC;FMTTYPE=text/html:<div>\n	Key Biscayne Lions Club invite you to the Annual Argentine Style BBQ.</div>\n<div>\n	&nbsp\;</div>\n<div>\n	Authentic Argentinian BBQ</div>\n<div>\n	Wine &amp\; Beer</div>\n<div>\n	Potato Salad (Rusa)</div>\n<div>\n	Green Salad</div>\n<div>\n	Baguette ...and more</div>\n<div>\n	<strong>All you can eat and drink!</strong></div>\n<div>\n	&nbsp\;</div>\n<div>\n	Public invited - enjoy the best of Argentine Parrilla and Music.</div>\n
LOCATION:Key Biscayne Beach Club\, 685 Ocean Drive
UID:e.330.1564
SEQUENCE:3
DTSTAMP:20260421T015202Z
URL:https://business.keybiscaynechamber.org/events/details/argentine-style-bbq-at-beach-club-05-04-2012-1564
END:VEVENT

END:VCALENDAR
