BEGIN:VCALENDAR
VERSION:2.0
PRODID:-//ChamberMaster//Event Calendar 2.0//EN
METHOD:PUBLISH
X-PUBLISHED-TTL:P3D
REFRESH-INTERVAL:P3D
CALSCALE:GREGORIAN
BEGIN:VEVENT
DTSTART:20131008T123000Z
DTEND:20131008T143000Z
X-MICROSOFT-CDO-ALLDAYEVENT:FALSE
SUMMARY:Affordable Care Act-Bottom Line Impact
DESCRIPTION:Join Kaufman & Rossin & Co. for this breakfast event where professionals from the Employee Benefits Security Administration\, insurance\, accounting\, and talent acquisition industries will present valuable insights into how the Affordable Care Act will affect businesses in South Florida.\n\n	Click here for more information and to RSVP.
X-ALT-DESC;FMTTYPE=text/html:<div style="color: gray">\n	<span style="font-family: arial\, helvetica\, sans-serif\; color: #000000\; font-size: 12px">Join&nbsp\;Kaufman &amp\; Rossin &amp\; Co.&nbsp\;for this breakfast event where professionals from the Employee Benefits Security Administration\, insurance\, accounting\, and talent acquisition industries will present valuable insights into how&nbsp\;the Affordable Care Act&nbsp\;will affect businesses in South Florida.<br />\n	Click <a href="http://cpa.kaufmanrossin.com/index.php/email/emailWebview?mkt_tok=3RkMMJWWfF9wsRonuqXMZKXonjHpfsX56%2BkrWaO2lMI%2F0ER3fOvrPUfGjI4ATcdiI%2BSLDwEYGJlv6SgFT7DEMbBt07gOWRg%3D">here</a> for more information and to <a href="http://cpa.kaufmanrossin.com/affordable-care-act-RSVP.html?mkt_tok=3RkMMJWWfF9wsRonuqXMZKXonjHpfsX56%2BkrWaO2lMI%2F0ER3fOvrPUfGjI4ATcdiI%2BSLDwEYGJlv6SgFT7DEMbBt07gOWRg%3D">RSVP</a>.&nbsp\; </span></div>\n
LOCATION:Jungle Island 1111 Parrot Jungle Way Miami\, FL 33132
UID:e.330.3993
SEQUENCE:3
DTSTAMP:20260419T235726Z
URL:https://business.keybiscaynechamber.org/events/details/affordable-care-act-bottom-line-impact-10-08-2013-3993
END:VEVENT

END:VCALENDAR
