BEGIN:VCALENDAR
VERSION:2.0
PRODID:-//ChamberMaster//Event Calendar 2.0//EN
METHOD:PUBLISH
X-PUBLISHED-TTL:P3D
REFRESH-INTERVAL:P3D
CALSCALE:GREGORIAN
BEGIN:VEVENT
DTSTART:20110512T223000Z
DTEND:20110513T020000Z
X-MICROSOFT-CDO-ALLDAYEVENT:FALSE
SUMMARY:Act4Me Third Annual Poker Tournament
DESCRIPTION:
X-ALT-DESC;FMTTYPE=text/html:
LOCATION:Key Biscayne Beach Club
UID:e.330.3373
SEQUENCE:3
DTSTAMP:20260421T172418Z
URL:https://business.keybiscaynechamber.org/events/details/act4me-third-annual-poker-tournament-05-12-2011-3373
END:VEVENT

END:VCALENDAR
