BEGIN:VCALENDAR
VERSION:2.0
PRODID:-//ChamberMaster//Event Calendar 2.0//EN
METHOD:PUBLISH
X-PUBLISHED-TTL:P3D
REFRESH-INTERVAL:P3D
CALSCALE:GREGORIAN
BEGIN:VEVENT
DTSTART:20131108T000000Z
DTEND:20131108T050000Z
X-MICROSOFT-CDO-ALLDAYEVENT:FALSE
SUMMARY:Act4Me's 6th Annual Poker Tournament
DESCRIPTION:All-In to benefit children with disabilities of the KB based ACT4Me\n\n\n\nRegistration and buffet begins at 7 pm.\n\nPoker tournament begins at 8 pm\n\n\n\nCall now - Limited space\n\nAmazing prizes for the first 8 who call and register
X-ALT-DESC;FMTTYPE=text/html:All-In to benefit children with disabilities of the KB based ACT4Me<br />\n<br />\nRegistration and buffet begins at 7 pm.<br />\nPoker tournament begins at 8 pm<br />\n<br />\nCall now - Limited space<br />\nAmazing prizes for the first 8 who call and register<br />\n
LOCATION:Coconut Grove Women's Club
UID:e.330.3982
SEQUENCE:3
DTSTAMP:20260419T204227Z
URL:https://business.keybiscaynechamber.org/events/details/act4me-s-6th-annual-poker-tournament-11-07-2013-3982
END:VEVENT

END:VCALENDAR
