BEGIN:VCALENDAR
VERSION:2.0
PRODID:-//ChamberMaster//Event Calendar 2.0//EN
METHOD:PUBLISH
X-PUBLISHED-TTL:P3D
REFRESH-INTERVAL:P3D
CALSCALE:GREGORIAN
BEGIN:VEVENT
DTSTART:20121017T230000Z
DTEND:20121018T035500Z
X-MICROSOFT-CDO-ALLDAYEVENT:FALSE
SUMMARY:Act4Me's 5th Annual Poker Tournament
DESCRIPTION:ALL IN  for the kids!\n\nRegistration 7:00pm   Tournament 8:00pm\n\nComplimentary buffet and full bar.
X-ALT-DESC;FMTTYPE=text/html:<span style="font-size: 12px"><span style="font-family: 'tahoma'\, 'sans-serif'\; mso-fareast-font-family: 'times new roman'\; mso-ansi-language: en-us\; mso-fareast-language: en-us\; mso-bidi-language: ar-sa"><strong><font color="#000000">ALL IN &nbsp\;for the kids!</font></strong><br />\n<font color="#000000">Registration 7:00pm&nbsp\;&nbsp\; Tournament 8:00pm<br />\nComplimentary buffet and full bar.</font></span></span>
LOCATION:Women's Club of Coconut Grove 2985 S Bayshore Dr Coconut Grove\, FL
UID:e.330.3781
SEQUENCE:3
DTSTAMP:20260420T174454Z
URL:https://business.keybiscaynechamber.org/events/details/act4me-s-5th-annual-poker-tournament-10-17-2012-3781
END:VEVENT

END:VCALENDAR
