BEGIN:VCALENDAR
VERSION:2.0
PRODID:-//ChamberMaster//Event Calendar 2.0//EN
METHOD:PUBLISH
X-PUBLISHED-TTL:P3D
REFRESH-INTERVAL:P3D
CALSCALE:GREGORIAN
BEGIN:VEVENT
DTSTART:20110512T223000Z
DTEND:20110513T030000Z
X-MICROSOFT-CDO-ALLDAYEVENT:FALSE
SUMMARY:Act4Me's 3rd Poker Tournament
DESCRIPTION:ALL IN  for the kids!\n\nRegistration 6.30pm sharp.\n\nComplimentary buffet and full bar.
X-ALT-DESC;FMTTYPE=text/html:<span style="font-size: 12px"><span style="font-family: 'tahoma'\, 'sans-serif'\; mso-fareast-font-family: 'times new roman'\; mso-ansi-language: en-us\; mso-fareast-language: en-us\; mso-bidi-language: ar-sa"><strong><font color="#000000">ALL IN &nbsp\;for the kids!</font></strong><br />\n<font color="#000000">Registration 6.30pm sharp.<br />\nComplimentary buffet and full bar.</font></span></span>
LOCATION:Key Biscayne Beach Club
UID:e.330.3082
SEQUENCE:3
DTSTAMP:20260421T184046Z
URL:https://business.keybiscaynechamber.org/events/details/act4me-s-3rd-poker-tournament-05-12-2011-3082
END:VEVENT

END:VCALENDAR
