BEGIN:VCALENDAR
VERSION:2.0
PRODID:-//ChamberMaster//Event Calendar 2.0//EN
METHOD:PUBLISH
X-PUBLISHED-TTL:P3D
REFRESH-INTERVAL:P3D
CALSCALE:GREGORIAN
BEGIN:VEVENT
DTSTART:20140212T230000Z
DTEND:20140213T010000Z
X-MICROSOFT-CDO-ALLDAYEVENT:FALSE
SUMMARY:ABICC Networker
DESCRIPTION:ABICC ANNUAL INTERNATIONAL BUSINESS CARD EXCHANGE
X-ALT-DESC;FMTTYPE=text/html:ABICC ANNUAL INTERNATIONAL BUSINESS CARD EXCHANGE 
LOCATION:Rusty Pelican
UID:e.330.4044
SEQUENCE:3
DTSTAMP:20260419T162734Z
URL:https://business.keybiscaynechamber.org/events/details/abicc-networker-02-12-2014-4044
END:VEVENT

END:VCALENDAR
