BEGIN:VCALENDAR
VERSION:2.0
PRODID:-//ChamberMaster//Event Calendar 2.0//EN
METHOD:PUBLISH
X-PUBLISHED-TTL:P3D
REFRESH-INTERVAL:P3D
CALSCALE:GREGORIAN
BEGIN:VEVENT
DTSTART:20131122T233000Z
DTEND:20131123T030000Z
X-MICROSOFT-CDO-ALLDAYEVENT:FALSE
SUMMARY:9th Annual Rotary Key Biscayne Wine & Food Fest
DESCRIPTION:Join us at the Key Biscayne Wine Challenge. Thirteen varietal wines from the New World will compete against wines from the Old World to earn recognition as "Best of Show" in each class.  The event features  The Rotary Challenge.  Eight guests will be invited as "consumer judges" to taste wines in each category.  A variety of food delicacies prepared by several prominent South Florida restaurants are included in the price of admission.  Featuring a 100 item silent auction.\n\n	For more information click here.
X-ALT-DESC;FMTTYPE=text/html:<div style="color: gray">\n	<span style="color: #000000"><span style="font-family: arial\, sans-serif"><span style="font-size: medium">Join us at the Key Biscayne Wine Challenge. Thirteen varietal wines from the New World will compete against wines from the Old World to earn recognition as &ldquo\;Best of Show&rdquo\; in each class.&nbsp\; The event features&nbsp\; <strong><em>The Rotary Challenge</em></strong>.&nbsp\; Eight guests will be invited as &ldquo\;consumer judges&rdquo\; to taste&nbsp\;wines in each category.&nbsp\; A variety of food delicacies prepared by several prominent South Florida restaurants are included in the price of admission.&nbsp\; Featuring a 100 item silent auction.<br />\n	For more information click <a href="http://www.ismyrotaryclub.org/Calendar/Event.cfm?EventID=77218970">here</a>.</span></span></span><br />\n	&nbsp\;</div>\n
LOCATION:The Links at Key Biscayne Clubhouse 6700 Crandon Blvd Key Biscayne\, FL 33149 Complementary Valet parking
UID:e.330.4002
SEQUENCE:3
DTSTAMP:20260419T204225Z
URL:https://business.keybiscaynechamber.org/events/details/9th-annual-rotary-key-biscayne-wine-food-fest-11-22-2013-4002
END:VEVENT

END:VCALENDAR
