BEGIN:VCALENDAR
VERSION:2.0
PRODID:-//ChamberMaster//Event Calendar 2.0//EN
METHOD:PUBLISH
X-PUBLISHED-TTL:P3D
REFRESH-INTERVAL:P3D
CALSCALE:GREGORIAN
BEGIN:VEVENT
DTSTART:20251115T210000Z
DTEND:20251116T045500Z
X-MICROSOFT-CDO-ALLDAYEVENT:FALSE
SUMMARY:6th edition of Rastrillo 305
DESCRIPTION:Join us for the 6th edition of Rastrillo 305\, a boutique festival with a philanthropic purpose that unites music\, a boutique bazaar\, gastronomy\, and culture in a unique seaside setting. \n\nThis year's lineup features Guitarricadelafuente and Arde Bogota \, two outstanding Spanish artists who will make this evening truly unforgettable. \n\nBeyond entertainment\, every ticket supports the socio-educational projects of International Studies Foundation\, creating meaningful impact in both Miami and Spain. \n\n\n\n   Saturday\, November 15\n\n 160 Harbor Dr.\, Key Biscayne\n\n  From 4pm until midnight\n\nVisit rastrillo305.org
X-ALT-DESC;FMTTYPE=text/html:<p align="justify" style="margin: 0px\; padding: 0px\; color: rgb(64\, 63\, 66)\; font-family: Arial\, Verdana\, Helvetica\, sans-serif\; font-size: 12px\; text-size-adjust: auto\; text-align: justify\;">&nbsp\;</p>\n\n<div class="page" title="Page 1">\n<div class="layoutArea">\n<div class="column">\n<p><span style="font-size:18px\;"><span style="font-family: ArialMT\;">Join us for the&nbsp\;</span><span style="font-family: Arial\; font-weight: 700\;">6th edition of Rastrillo 305</span><span style="font-family: ArialMT\;">\, a boutique festival with a philanthropic purpose that unites music\, a boutique bazaar\, gastronomy\, and culture in a unique seaside setting. </span></span></p>\n\n<p><span style="font-size:18px\;"><span style="font-family: ArialMT\;">This year&rsquo\;s lineup features </span><span style="font-family: Arial\; font-weight: 700\;">Guitarricadelafuente </span><span style="font-family: ArialMT\;">and </span><span style="font-family: Arial\; font-weight: 700\;">Arde Bogota&#769\;</span><span style="font-family: ArialMT\;">\, two outstanding Spanish artists who will make this evening truly unforgettable. </span></span></p>\n\n<p><span style="font-size:18px\;"><span style="font-family: ArialMT\;">Beyond entertainment\, every ticket supports the </span><span style="font-family: Arial\; font-weight: 700\;">socio-educational projects of International Studies Foundation</span></span><span style="font-size: 11.000000pt\; font-family: 'ArialMT'"><span style="font-size:18px\;">\, creating meaningful impact in both Miami and Spain.</span> </span><br />\n<br />\n<span style="font-size:18px\;">&#128467\;&#65039\; <span style="font-family:arial\;">Saturday\, November 15</span><br />\n&#128205\;<span style="font-family:arial\;">160 Harbor Dr.\, Key Biscayne</span><br />\n&#128339\; <span style="font-family:arial\;">From 4pm until midnight</span><br />\n<span style="font-family:arial\;">Visit <a href="https://www.rastrillo305.org/">rastrillo305.org</a></span></span></p>\n</div>\n</div>\n</div>\n
LOCATION:Crossbridge
UID:e.330.23230
SEQUENCE:3
DTSTAMP:20260424T193752Z
URL:https://business.keybiscaynechamber.org/events/details/6th-edition-of-rastrillo-305-23230
END:VEVENT

END:VCALENDAR
