BEGIN:VCALENDAR
VERSION:2.0
PRODID:-//ChamberMaster//Event Calendar 2.0//EN
METHOD:PUBLISH
X-PUBLISHED-TTL:P3D
REFRESH-INTERVAL:P3D
CALSCALE:GREGORIAN
BEGIN:VEVENT
DTSTART:20120527T200000Z
DTEND:20120528T030000Z
X-MICROSOFT-CDO-ALLDAYEVENT:FALSE
SUMMARY:6th Annual Key Biscayne Rib Off/Bob Kemper Memorial
DESCRIPTION:BABY BACK RIBS & MORE\n\nBEER & LIQUOR\n\nLIVE MUSIC ON STAGE\n\n\n\n\n\nIn memory of Bob Kemper
X-ALT-DESC;FMTTYPE=text/html:<em><span style="color: #ff0000">BABY BACK RIBS &amp\; MORE<br />\nBEER &amp\; LIQUOR<br />\nLIVE MUSIC ON STAGE</span></em><br />\n<br />\n<br />\nIn memory of Bob Kemper
LOCATION:Brought to you by The Ibis Lounge Key Biscayne 21 and over to enter Key Colony Place 200 Crandon Blvd
UID:e.330.3708
SEQUENCE:3
DTSTAMP:20260421T015209Z
URL:https://business.keybiscaynechamber.org/events/details/6th-annual-key-biscayne-rib-off-bob-kemper-memorial-05-27-2012-3708
END:VEVENT

END:VCALENDAR
