BEGIN:VCALENDAR
VERSION:2.0
PRODID:-//ChamberMaster//Event Calendar 2.0//EN
METHOD:PUBLISH
X-PUBLISHED-TTL:P3D
REFRESH-INTERVAL:P3D
CALSCALE:GREGORIAN
BEGIN:VEVENT
DTSTART:20120421T123000Z
DTEND:20120421T173000Z
X-MICROSOFT-CDO-ALLDAYEVENT:FALSE
SUMMARY:5th Annual Village Electronics Recycling Drive
DESCRIPTION:The Village will be collecting electronic recycling on April 21.  There will be a drop off location on W. Enid Dr. between the Village Hall parking lot and the Winn Dixie.\n\n	For a complete list of what is acceptable click here http://www.keybiscayne.fl.gov/index.php?src=news&srctype=detail&category=Village%20Goes%20Green%20Initiat
X-ALT-DESC;FMTTYPE=text/html:<p>\n	The Village will be collecting electronic recycling on April 21.&nbsp\; There will be a drop off location on W. Enid Dr. between the Village Hall parking lot and the Winn Dixie.<br />\n	For a complete list of what is acceptable click<a href="http://www.keybiscayne.fl.gov/index.php?src=news&amp\;srctype=detail&amp\;category=Village%20Goes%20Green%20Initiative&amp\;refno=278">&nbsp\;here&nbsp\;</a><span _fck_bookmark="1" style="display: none"><a href="http://www.keybiscayne.fl.gov/index.php?src=news&amp\;srctype=detail&amp\;category=Village%20Goes%20Green%20Initiat">http://www.keybiscayne.fl.gov/index.php?src=news&amp\;srctype=detail&amp\;category=Village%20Goes%20Green%20Initiat</a></span></p>\n<span _fck_bookmark="1" style="display: none">&nbsp\;</span>
LOCATION:Drop off on W. Enid Drive between the Village Hall parking lot and the Winn-Dixie
UID:e.330.3687
SEQUENCE:3
DTSTAMP:20260421T015021Z
URL:https://business.keybiscaynechamber.org/events/details/5th-annual-village-electronics-recycling-drive-04-21-2012-3687
END:VEVENT

END:VCALENDAR
