BEGIN:VCALENDAR
VERSION:2.0
PRODID:-//ChamberMaster//Event Calendar 2.0//EN
METHOD:PUBLISH
X-PUBLISHED-TTL:P3D
REFRESH-INTERVAL:P3D
CALSCALE:GREGORIAN
BEGIN:VEVENT
DTSTART;VALUE=DATE:20130704
DTEND;VALUE=DATE:20130705
TRANSP:TRANSPARENT
X-MICROSOFT-CDO-ALLDAYEVENT:TRUE
SUMMARY:4th of July Parade
DESCRIPTION:Fourth of July Celebrations\n\n\n\nEnjoy a parade beginning at 11 am along Crandon Boulevard.  Floats\, marching groups and bands galore.\n\nFood and drinks will be available from the Kiwanis in the Village Green after the parade.\n\n\n\nEnjoy fireworks at 9 pm on the beach.
X-ALT-DESC;FMTTYPE=text/html:<br />\n<span style="font-size: 26px"><strong><span style="color: #ff0000"><span style="font-family: comic sans ms">Fourth of July Celebrations</span></span></strong></span><br />\n<br />\n<span style="font-size: 22px"><span style="color: #0000cc"><span style="font-family: comic sans ms">Enjoy a parade beginning at 11 am along Crandon Boulevard.&nbsp\; Floats\, marching groups and bands galore.<br />\nFood and drinks&nbsp\;will be available from the Kiwanis in the Village Green after the parade.</span></span><br />\n<br />\n<span style="color: #ff0000">Enjoy fireworks at 9 pm on the beach.</span></span>
LOCATION:Crandon Blvd\, Key Biscayne
UID:e.330.3937
SEQUENCE:3
DTSTAMP:20260420T025632Z
URL:https://business.keybiscaynechamber.org/events/details/4th-of-july-parade-07-04-2013-3937
END:VEVENT

END:VCALENDAR
