BEGIN:VCALENDAR
VERSION:2.0
PRODID:-//ChamberMaster//Event Calendar 2.0//EN
METHOD:PUBLISH
X-PUBLISHED-TTL:P3D
REFRESH-INTERVAL:P3D
CALSCALE:GREGORIAN
BEGIN:VEVENT
DTSTART:20120630T223000Z
DTEND:20120701T020000Z
X-MICROSOFT-CDO-ALLDAYEVENT:FALSE
SUMMARY:4th of July Old Fashioned Barbecue
DESCRIPTION:Join us for hamburgers\, hot dogs\, chips\, cole slaw\, plantains. whole pig and Argentinean sausage. \n\n\n\nTickets at Key Biscayne Chamber of Commerce\n\nT-Shirts on sale at Winn Dixie
X-ALT-DESC;FMTTYPE=text/html:<span style="color: #ff0000">Join us for hamburgers\, hot dogs\, chips\, cole slaw\, plantains. whole pig and Argentinean sausage.&nbsp\;</span><br />\n<br />\n<span style="color: #0000ff">Tickets at Key Biscayne Chamber of Commerce<br />\nT-Shirts on sale at Winn Dixie</span>
LOCATION:Key Biscayne Beach Club
UID:e.330.3734
SEQUENCE:3
DTSTAMP:20260420T222817Z
URL:https://business.keybiscaynechamber.org/events/details/4th-of-july-old-fashioned-barbecue-06-30-2012-3734
END:VEVENT

END:VCALENDAR
