BEGIN:VCALENDAR
VERSION:2.0
PRODID:-//ChamberMaster//Event Calendar 2.0//EN
METHOD:PUBLISH
X-PUBLISHED-TTL:P3D
REFRESH-INTERVAL:P3D
CALSCALE:GREGORIAN
BEGIN:VEVENT
DTSTART:20130629T223000Z
DTEND:20130630T010000Z
X-MICROSOFT-CDO-ALLDAYEVENT:FALSE
SUMMARY:4th of July Bar-B-Q
DESCRIPTION:Great BBQ provided by Shorty's in addition to enjoying music\, beer and wine.\n\n\n\nAdults $25 includes 1 drink\n\nChild   $10 (under 12 years)
X-ALT-DESC;FMTTYPE=text/html:<span style="font-size: 16px"><span style="color: #ff0000">Great BBQ provided by Shorty&#39\;s in addition to enjoying&nbsp\;music\, beer and wine.<br />\n<br />\nAdults $25 includes 1 drink<br />\nChild&nbsp\;&nbsp\; $10 (under 12 years)</span></span>
LOCATION:Key Biscayne Beach Club 685 Ocean Drive Key Biscayne\, FL 33149
UID:e.330.3938
SEQUENCE:3
DTSTAMP:20260420T043249Z
URL:https://business.keybiscaynechamber.org/events/details/4th-of-july-bar-b-q-06-29-2013-3938
END:VEVENT

END:VCALENDAR
