BEGIN:VCALENDAR
VERSION:2.0
PRODID:-//ChamberMaster//Event Calendar 2.0//EN
METHOD:PUBLISH
X-PUBLISHED-TTL:P3D
REFRESH-INTERVAL:P3D
CALSCALE:GREGORIAN
BEGIN:VEVENT
DTSTART:20251108T121500Z
DTEND:20251108T150000Z
X-MICROSOFT-CDO-ALLDAYEVENT:FALSE
SUMMARY:48th Annual KB Lighthouse Run
DESCRIPTION:SAVE THE DATE!\n\n\n\nThe 48th Annual Key Biscayne Lighthouse 10K/5K Run starts and finishes near the base of the historical Cape Florida Lighthouse in Bill Baggs State Park.\n\n\n\nBoth races run through the State Park and the beautiful Village of Key Biscayne. Free state park entrance\, water stations and race clocks throughout course.\n\n\n\nFood\, water\, adult beverages\, music and massages for all runners after the race.\n\n\n\nNOTE: There will be no race day registration!
X-ALT-DESC;FMTTYPE=text/html:<br />\n<br />\n<span style="font-size:18px\;">SAVE THE DATE!<br />\n<br />\nThe 48th Annual Key Biscayne Lighthouse 10K/5K Run starts and finishes near the base of the historical Cape Florida Lighthouse in Bill Baggs State Park.<br />\n<br />\nBoth races run through the State Park and the beautiful Village of Key Biscayne. Free state park entrance\, water stations and race clocks throughout course.<br />\n<br />\nFood\, water\, adult beverages\, music and massages for all runners after the race.<br />\n<br />\n<em>NOTE: There will be no race day registration!</em></span>
LOCATION:Bill Baggs Cape Florida State Park
UID:e.330.23231
SEQUENCE:3
DTSTAMP:20260424T193606Z
URL:https://business.keybiscaynechamber.org/events/details/48th-annual-kb-lighthouse-run-23231
END:VEVENT

END:VCALENDAR
