BEGIN:VCALENDAR
VERSION:2.0
PRODID:-//ChamberMaster//Event Calendar 2.0//EN
METHOD:PUBLISH
X-PUBLISHED-TTL:P3D
REFRESH-INTERVAL:P3D
CALSCALE:GREGORIAN
BEGIN:VEVENT
DTSTART:20130323T130000Z
DTEND:20130323T130000Z
X-MICROSOFT-CDO-ALLDAYEVENT:FALSE
SUMMARY:23rd Annual Easter Egg Hunt
DESCRIPTION:The Egg Hunt begins at 9:30 Sharp. \n\nBring your baskets and cameras to take pictures with the Easter Bunny.
X-ALT-DESC;FMTTYPE=text/html:The Egg Hunt begins at 9:30 Sharp.&nbsp\;<br />\nBring your baskets and cameras to take pictures with the Easter Bunny.
LOCATION:The Village Green
UID:e.330.3876
SEQUENCE:3
DTSTAMP:20260420T091026Z
URL:https://business.keybiscaynechamber.org/events/details/23rd-annual-easter-egg-hunt-03-23-2013-3876
END:VEVENT

END:VCALENDAR
