BEGIN:VCALENDAR
VERSION:2.0
PRODID:-//ChamberMaster//Event Calendar 2.0//EN
METHOD:PUBLISH
X-PUBLISHED-TTL:P3D
REFRESH-INTERVAL:P3D
CALSCALE:GREGORIAN
BEGIN:VEVENT
DTSTART:20111023T160000Z
DTEND:20111023T210000Z
X-MICROSOFT-CDO-ALLDAYEVENT:FALSE
SUMMARY:20th Anniversary Celebration - Carnival on the Green
DESCRIPTION:Carnival on the Village Green\n\nSunday\, October 23rd\, 12 noon to 5 p.m.\n\n\n\nfood\, drinks\, rides\, art exhibits\, entertainment\n\nfollow our Heritage Trail Hunt\n\n \n\nThe event will conclude celebrating our "Island Paradise" \n\nwith a civic ceremony honoring our \n\nfounding fathers\, council members and volunteers.
X-ALT-DESC;FMTTYPE=text/html:&nbsp\;<br />\n<span style="font-size: 16pt"><span style="color: black"><span style="font-family: mv boli"><strong>Carnival on the Village Green</strong><br />\n<span style="color: black"><span style="font-family: mv boli"><font size="2">Sunday\, October 23<sup>rd</sup>\, 12 noon to 5 p.m.</font></span></span></span></span></span><br />\n<br />\n<span style="font-size: 16px"><span style="color: black"><span style="font-family: mv boli">food\, drinks\, rides\, art exhibits\, entertainment</span></span><br />\n<span style="color: black"><span style="font-family: mv boli">follow our Heritage Trail Hunt</span></span><br />\n&nbsp\;<br />\n<span style="color: black"><span style="font-family: mv boli">The event will conclude celebrating our &quot\;Island Paradise&quot\; </span></span><br />\n<span style="color: black"><span style="font-family: mv boli">with a civic ceremony honoring our </span></span><br />\n<span style="color: black"><span style="font-family: mv boli">founding fathers\, council members and volunteers.</span></span></span><br />\n&nbsp\;<br />\n
LOCATION:The Village Green (the park in the middle of the Village between Crandon Blvd & Fernwood
UID:e.330.3478
SEQUENCE:3
DTSTAMP:20260421T103937Z
URL:https://business.keybiscaynechamber.org/events/details/20th-anniversary-celebration-carnival-on-the-green-10-23-2011-3478
END:VEVENT

END:VCALENDAR
