BEGIN:VCALENDAR
VERSION:2.0
PRODID:-//ChamberMaster//Event Calendar 2.0//EN
METHOD:PUBLISH
X-PUBLISHED-TTL:P3D
REFRESH-INTERVAL:P3D
CALSCALE:GREGORIAN
BEGIN:VEVENT
DTSTART;VALUE=DATE:20130316
DTEND;VALUE=DATE:20130318
TRANSP:TRANSPARENT
X-MICROSOFT-CDO-ALLDAYEVENT:TRUE
SUMMARY:2013 Rotary Key Biscayne Art Festival
DESCRIPTION:This event\, in it's 49th year has become a tradition for the island attracting visitors and artists from all over the country.
X-ALT-DESC;FMTTYPE=text/html:<p>\n	This event\, in it&#39\;s 49th year has become a tradition for the island attracting visitors and artists from all over the country.&nbsp\;<br />\n	<br />\n	<br />\n	<br />\n	<br />\n	&nbsp\;</p>\n
LOCATION:Village Green
UID:e.330.3864
SEQUENCE:3
DTSTAMP:20260420T091723Z
URL:https://business.keybiscaynechamber.org/events/details/2013-rotary-key-biscayne-art-festival-03-16-2013-3864
END:VEVENT

END:VCALENDAR
