BEGIN:VCALENDAR
VERSION:2.0
PRODID:-//ChamberMaster//Event Calendar 2.0//EN
METHOD:PUBLISH
X-PUBLISHED-TTL:P3D
REFRESH-INTERVAL:P3D
CALSCALE:GREGORIAN
BEGIN:VEVENT
DTSTART;VALUE=DATE:20120317
DTEND;VALUE=DATE:20120319
TRANSP:TRANSPARENT
X-MICROSOFT-CDO-ALLDAYEVENT:TRUE
SUMMARY:2012 Rotary Key Biscayne Art Festival
DESCRIPTION:This event\, in it's 48th year has become a tradition for the island attracting visitors and artists from all over the country.
X-ALT-DESC;FMTTYPE=text/html:<p>\n	This event\, in it&#39\;s 48th year has become a tradition for the island attracting visitors and artists from all over the country.&nbsp\;<br />\n	<br />\n	<br />\n	<br />\n	<br />\n	&nbsp\;</p>\n
LOCATION:Village Green
UID:e.330.3445
SEQUENCE:3
DTSTAMP:20260421T032326Z
URL:https://business.keybiscaynechamber.org/events/details/2012-rotary-key-biscayne-art-festival-03-17-2012-3445
END:VEVENT

END:VCALENDAR
