BEGIN:VCALENDAR
VERSION:2.0
PRODID:-//ChamberMaster//Event Calendar 2.0//EN
METHOD:PUBLISH
X-PUBLISHED-TTL:P3D
REFRESH-INTERVAL:P3D
CALSCALE:GREGORIAN
BEGIN:VEVENT
DTSTART:20130517T160000Z
DTEND:20130517T233000Z
X-MICROSOFT-CDO-ALLDAYEVENT:FALSE
SUMMARY:18 Holes 1 Cause - Act4Me Charity Golf Tournament
DESCRIPTION:
X-ALT-DESC;FMTTYPE=text/html:
LOCATION:Melreese Golf Club
UID:e.330.3872
SEQUENCE:3
DTSTAMP:20260420T062041Z
URL:https://business.keybiscaynechamber.org/events/details/18-holes-1-cause-act4me-charity-golf-tournament-05-17-2013-3872
END:VEVENT

END:VCALENDAR
