BEGIN:VCALENDAR
VERSION:2.0
PRODID:-//ChamberMaster//Event Calendar 2.0//EN
METHOD:PUBLISH
X-PUBLISHED-TTL:P3D
REFRESH-INTERVAL:P3D
CALSCALE:GREGORIAN
BEGIN:VEVENT
DTSTART:20191214T230000Z
DTEND:20191215T013000Z
X-MICROSOFT-CDO-ALLDAYEVENT:FALSE
SUMMARY:Winterfest Boat Parade
DESCRIPTION:Celebrate the holiday season by watching the Winterfest Boat Parade of creatively lit boats.
X-ALT-DESC;FMTTYPE=text/html:Celebrate the holiday season by watching the Winterfest Boat Parade of creatively lit boats.
LOCATION:"No Name Harbor" Bill Baggs Cape Florida State Park 1200 Crandon Blvd Key Biscayne\, FL 33149
UID:e.330.15639
SEQUENCE:3
DTSTAMP:20260421T121207Z
URL:http://business.keybiscaynechamber.org/events/details/winterfest-boat-parade-12-14-2019-15639
END:VEVENT

END:VCALENDAR
