BEGIN:VCALENDAR
VERSION:2.0
PRODID:-//ChamberMaster//Event Calendar 2.0//EN
METHOD:PUBLISH
X-PUBLISHED-TTL:P3D
REFRESH-INTERVAL:P3D
CALSCALE:GREGORIAN
BEGIN:VEVENT
DTSTART:20200508T233000Z
DTEND:20200509T003000Z
X-MICROSOFT-CDO-ALLDAYEVENT:FALSE
SUMMARY:Webinar en español: Me Reinventé y Emprendí por Camila Canabal
DESCRIPTION:Camila Canabal presenta un conversatorio ME REINVENT  Y EMPREND : un manual con todo para seguir inspir ndolos y aportar algo que puedas hacer de TU SUE O\, REALIDAD.
X-ALT-DESC;FMTTYPE=text/html:Camila Canabal presenta un conversatorio ME REINVENT&Eacute\; Y EMPREND&Iacute\;: un manual con todo para seguir inspir&aacute\;ndolos y aportar algo que puedas hacer de TU SUE&Ntilde\;O\, REALIDAD.
LOCATION:Zoom Meeting
UID:e.330.18666
SEQUENCE:3
DTSTAMP:20260420T032137Z
URL:http://business.keybiscaynechamber.org/events/details/webinar-en-espa&#241;ol-me-reinvent&#233;-y-emprend&#237;-por-camila-canabal-18666
END:VEVENT

END:VCALENDAR
