BEGIN:VCALENDAR
VERSION:2.0
PRODID:-//ChamberMaster//Event Calendar 2.0//EN
METHOD:PUBLISH
X-PUBLISHED-TTL:P3D
REFRESH-INTERVAL:P3D
CALSCALE:GREGORIAN
BEGIN:VEVENT
DTSTART:20200505T140000Z
DTEND:20200505T150000Z
X-MICROSOFT-CDO-ALLDAYEVENT:FALSE
SUMMARY:WEBINAR: Comunicación Digital en Tiempos de Incertidumbre
DESCRIPTION:Temas del webinar:\n\n	Tu negocio en Digital\n	Comunicar en tiempos de Incertidumbre\n	Vender m s con Herramientas Digitales para tu Negocio (Instagram\, Facebook\, citas on line\, chats )\n	Esto va a pasar y tu debes estar ahi! Una crisis es una oportunidad\n	Tips y preguntas\n\nSpeaker:\n\nOlga Izquierdo\, CEO de CuCo Company America\n\n\n\nNo te olvides de solicitar tu Asesoramiento de Marca Digital GRATUITO\, una oferta  especial para miembros de la C mara de Comercio de Key Biscayne.
X-ALT-DESC;FMTTYPE=text/html:<strong>Temas del webinar:</strong>\n<ul>\n	<li>Tu negocio en Digital</li>\n	<li>Comunicar en tiempos de Incertidumbre</li>\n	<li>Vender m&aacute\;s con Herramientas Digitales para tu Negocio (Instagram\, Facebook\, citas on line\, chats&hellip\;)</li>\n	<li>Esto va a pasar y tu debes estar ahi! Una crisis es una oportunidad</li>\n	<li>Tips y preguntas</li>\n</ul>\nSpeaker:<br />\n<strong>Olga Izquierdo\, CEO de CuCo Company America</strong><br />\n<br />\n<em>No te olvides de solicitar tu Asesoramiento de Marca Digital GRATUITO\, una oferta&nbsp\; especial para miembros de la C&aacute\;mara de Comercio de Key Biscayne.&nbsp\;</em>
LOCATION:Unirse a la reuni n Zoom https://us02web.zoom.us/j/87311015323 ID de reuni n: 873 1101 5323 Unirse por tel fono +1 203-747-8916 (PIN: 947688703)
UID:e.330.18662
SEQUENCE:3
DTSTAMP:20260420T032005Z
URL:http://business.keybiscaynechamber.org/events/details/webinar-comunicaci&#243;n-digital-en-tiempos-de-incertidumbre-18662
END:VEVENT

END:VCALENDAR
