BEGIN:VCALENDAR
VERSION:2.0
PRODID:-//ChamberMaster//Event Calendar 2.0//EN
METHOD:PUBLISH
X-PUBLISHED-TTL:P3D
REFRESH-INTERVAL:P3D
CALSCALE:GREGORIAN
BEGIN:VEVENT
DTSTART:20211217T230000Z
DTEND:20211218T010000Z
X-MICROSOFT-CDO-ALLDAYEVENT:FALSE
SUMMARY:Voices of Our Community: Race\, Risk\, and Resilience - LIBERTY CITY
DESCRIPTION:Join us for a dynamic creative arts community event that gives voice to the experiences\, resilience\, & struggles of Liberty City residents.\n\n \n\n\n\n\n\n\n\nThe two-hour Liberty City community event is a creative arts showcase of residents sharing their perspectives on race\, risk\, and resillence under the weight of the inequalities surrounding disaster and economics. \n\nCommunity artists and residents will share their experiences and insights through oral histories\, performances\, and various art mediums. Refreshments will be served.\n\n6:00 - 7:00 pm ARTWALK Featuring Liberty City Artists (appetizers served)\n\n7:00-8:00 pm Creative Arts Program Featuring community groups\, theater\, and individuals artistically sharing their experiences.\n\nFREE EVENT - FREE PARKING
X-ALT-DESC;FMTTYPE=text/html:<div>\n<div>\n<div>\n<div><strong>Join us for a dynamic creative arts community event that gives voice to the experiences\, resilience\, &amp\; struggles of Liberty City residents.</strong></div>\n\n<p>&nbsp\;</p>\n</div>\n</div>\n</div>\n\n<div>\n<div>\n<div>\n<p>The two-hour Liberty City community event is a creative arts showcase of residents sharing their perspectives on race\, risk\, and resillence under the weight of the inequalities surrounding disaster and economics.&nbsp\;</p>\n\n<p>Community artists and residents will share their experiences and insights through oral histories\, performances\, and various art mediums. Refreshments will be served.</p>\n\n<p>6:00 - 7:00 pm ARTWALK Featuring Liberty City Artists (appetizers served)</p>\n\n<p>7:00-8:00 pm Creative Arts Program Featuring community groups\, theater\, and individuals artistically sharing their experiences.</p>\n\n<p><strong>FREE EVENT - FREE PARKING</strong></p>\n</div>\n</div>\n</div>\n
LOCATION:Carrie Meek Senior Center (Hadley Park)
UID:e.330.21384
SEQUENCE:3
DTSTAMP:20260419T192051Z
URL:http://business.keybiscaynechamber.org/events/details/voices-of-our-community-race-risk-and-resilience-liberty-city-21384
END:VEVENT

END:VCALENDAR
