BEGIN:VCALENDAR
VERSION:2.0
PRODID:-//ChamberMaster//Event Calendar 2.0//EN
METHOD:PUBLISH
X-PUBLISHED-TTL:P3D
REFRESH-INTERVAL:P3D
CALSCALE:GREGORIAN
BEGIN:VEVENT
DTSTART:20230130T143000Z
DTEND:20230130T153000Z
X-MICROSOFT-CDO-ALLDAYEVENT:FALSE
SUMMARY:VKB Outdoor Dining & Parking Regulations Meeting
DESCRIPTION:Please join the Key Biscayne Chamber of Commerce and Village of Key Biscayne for a follow-up meeting regarding the Village of Key Biscayne's Outdoor Dining Regulations & Parking changes.\n\n\n\nVillage Staff will present the new application process for outdoor dining with an overview of relevant of zoning\, building code\, fire code\, and County DERM requirements   based on the code changes this past October which potentially allow much more space in parking lots and flexibility for outdoor dining.\n\n\n\nPlease NOTE: Permits created under the emergency COVID measures will expire and need NEW permits under this program.
X-ALT-DESC;FMTTYPE=text/html:<br />\n<br />\n<br />\nPlease join the Key Biscayne Chamber of Commerce and Village of Key Biscayne for a follow-up meeting regarding the Village of Key Biscayne&rsquo\;s Outdoor Dining Regulations &amp\; Parking changes.<br />\n<br />\nVillage Staff will present the new application process for outdoor dining with an overview of relevant of zoning\, building code\, fire code\, and County DERM requirements &ndash\; based on the code changes this past October which potentially allow much more space in parking lots and flexibility for outdoor dining.<br />\n<br />\nPlease NOTE: Permits created under the emergency COVID measures will expire and need NEW permits under this program.
LOCATION:KB Community Center (Lighthouse Room\, 2nd floor)
UID:e.330.22031
SEQUENCE:3
DTSTAMP:20260419T123133Z
URL:http://business.keybiscaynechamber.org/events/details/vkb-outdoor-dining-parking-regulations-meeting-22031
END:VEVENT

END:VCALENDAR
