BEGIN:VCALENDAR
VERSION:2.0
PRODID:-//ChamberMaster//Event Calendar 2.0//EN
METHOD:PUBLISH
X-PUBLISHED-TTL:P3D
REFRESH-INTERVAL:P3D
CALSCALE:GREGORIAN
BEGIN:VEVENT
DTSTART:20200910T220000Z
DTEND:20200911T020000Z
X-MICROSOFT-CDO-ALLDAYEVENT:FALSE
SUMMARY:Virtual Workshop & Special Council Meeting
DESCRIPTION:The purpose of the workshop and meeting is to discuss the Stormwater Utility and Right-of-Way Improvement Projects. Also being discussed in the meeting is the Adoption of the Miami-Dade Local Mitigation Strategy.
X-ALT-DESC;FMTTYPE=text/html:The purpose of the workshop and meeting is to discuss the Stormwater Utility and Right-of-Way Improvement Projects. Also being discussed in the meeting is the Adoption of the Miami-Dade Local Mitigation Strategy.
LOCATION:CALL IN TO THE VIRTUAL PUBLIC MEETING Dial 305-365-7569 then input the Meeting ID: 231 627 8415\, followed by #. There is no participant ID. Press # again. WATCH THE VIRTUAL PUBLIC MEETING Comcast/Xfinity: Channel 77 ATT UVerse: Select 99 (Government Channel) on the menu. Select "Village of Key Biscayne" on the list of municipal channels in the submenu. From your computer/mobile device: https://keybiscayne.granicus.com/MediaPlayer.php?publish_id=2
UID:e.330.19322
SEQUENCE:3
DTSTAMP:20260419T134045Z
URL:http://business.keybiscaynechamber.org/events/details/virtual-workshop-special-council-meeting-19322
END:VEVENT

END:VCALENDAR
