BEGIN:VCALENDAR
VERSION:2.0
PRODID:-//ChamberMaster//Event Calendar 2.0//EN
METHOD:PUBLISH
X-PUBLISHED-TTL:P3D
REFRESH-INTERVAL:P3D
CALSCALE:GREGORIAN
BEGIN:VEVENT
DTSTART:20200729T150000Z
DTEND:20200729T160000Z
X-MICROSOFT-CDO-ALLDAYEVENT:FALSE
SUMMARY:Virtual Workshop: How to Sell on Instagram
DESCRIPTION:Join us for a free workshop: "How to sell on Instagram" offered by Uniklon Agency for business owners\, managers\, and entrepreneurs.\n\n	Craft an ad that is optimized for Instagram\n	Understand the differences between Facebook and Instagram placement optimization\n	Learn how to reach new leads a the most critical stage in the Customer Value Journey.
X-ALT-DESC;FMTTYPE=text/html:Join us for a free workshop: &quot\;How to sell on Instagram&quot\; offered by <a href="https://uniklonagency.com/">Uniklon Agency</a> for business owners\, managers\, and entrepreneurs.\n<ul>\n	<li>Craft an ad that is optimized for Instagram</li>\n	<li>Understand the differences between Facebook and Instagram placement optimization</li>\n	<li>Learn how to reach new leads a the most critical stage in the Customer Value Journey.</li>\n</ul>\n
LOCATION:Join Zoom Meeting https://us02web.zoom.us/j/88071002631 Meeting ID: 880 7100 2631 One tap mobile +13017158592\,\,88071002631# US (Germantown) +13126266799\,\,88071002631# US (Chicago) Dial by your location +1 301 715 8592 US (Germantown) +1 312 626 6799 US (Chicago) +1 929 205 6099 US (New York) +1 253 215 8782 US (Tacoma) +1 346 248 7799 US (Houston) +1 669 900 6833 US (San Jose) Meeting ID: 880 7100 2631 Find your local number: https://us02web.zoom.us/u/kggb5qbdV
UID:e.330.18898
SEQUENCE:3
DTSTAMP:20260420T000047Z
URL:http://business.keybiscaynechamber.org/events/details/virtual-workshop-how-to-sell-on-instagram-18898
END:VEVENT

END:VCALENDAR
